BEGIN:VCALENDAR
VERSION:2.0
PRODID:-//Star Hotel Sale - ECPv4.7.2//NONSGML v1.0//EN
CALSCALE:GREGORIAN
METHOD:PUBLISH
X-WR-CALNAME:Star Hotel Sale
X-ORIGINAL-URL:https://starhotelsale.com.au
X-WR-CALDESC:Events for Star Hotel Sale
BEGIN:VEVENT
DTSTART;VALUE=DATE:20190130
DTEND;VALUE=DATE:20190131
DTSTAMP:20190227T143358
CREATED:20170928T055223Z
LAST-MODIFIED:20180515T105446Z
UID:2184-1548806400-1548892799@starhotelsale.com.au
SUMMARY:Wednesday Pasta Night
DESCRIPTION:Come in every Wednesday and enjoy one of our delicious pasta options for $19.95. \nView the menu options on our Bistro page. \n \n
URL:https://starhotelsale.com.au/event/wednesday-pasta-night-2019-01-30/
END:VEVENT
END:VCALENDAR