BEGIN:VCALENDAR
VERSION:2.0
PRODID:-//Star Hotel Sale - ECPv4.7.2//NONSGML v1.0//EN
CALSCALE:GREGORIAN
METHOD:PUBLISH
X-WR-CALNAME:Star Hotel Sale
X-ORIGINAL-URL:https://starhotelsale.com.au
X-WR-CALDESC:Events for Star Hotel Sale
BEGIN:VEVENT
DTSTART;VALUE=DATE:20190227
DTEND;VALUE=DATE:20190228
DTSTAMP:20190227T143019
CREATED:20170928T055223Z
LAST-MODIFIED:20180515T105447Z
UID:2188-1551225600-1551311999@starhotelsale.com.au
SUMMARY:Wednesday Pasta Night
DESCRIPTION:Come in every Wednesday and enjoy one of our delicious pasta options for $19.95. \nView the menu options on our Bistro page. \n \n
URL:https://starhotelsale.com.au/event/wednesday-pasta-night-2019-02-27/
END:VEVENT
END:VCALENDAR