BEGIN:VCALENDAR
VERSION:2.0
PRODID:-//Star Hotel Sale - ECPv4.7.2//NONSGML v1.0//EN
CALSCALE:GREGORIAN
METHOD:PUBLISH
X-WR-CALNAME:Star Hotel Sale
X-ORIGINAL-URL:https://starhotelsale.com.au
X-WR-CALDESC:Events for Star Hotel Sale
BEGIN:VEVENT
DTSTART;VALUE=DATE:20190128
DTEND;VALUE=DATE:20190129
DTSTAMP:20190227T140716
CREATED:20170928T054039Z
LAST-MODIFIED:20170928T054039Z
UID:2362-1548633600-1548719999@starhotelsale.com.au
SUMMARY:Monday Kids Eat Free
DESCRIPTION:Monday kids eat free at the Star Hotel. Valid with any meal purchased. \nPlease note\, this offer is not available on public holidays. \n
URL:https://starhotelsale.com.au/event/monday-kids-eat-free-2019-01-28/
END:VEVENT
BEGIN:VEVENT
DTSTART;VALUE=DATE:20190129
DTEND;VALUE=DATE:20190130
DTSTAMP:20190227T140716
CREATED:20170928T054916Z
LAST-MODIFIED:20180515T112746Z
UID:2284-1548720000-1548806399@starhotelsale.com.au
SUMMARY:Tuesday Schnitzel Night
DESCRIPTION:Every Tuesday come an enjoy one of our amazing Schnitzels for $19.95. \nCheck out the menu options on our Bistro page. \n \n
URL:https://starhotelsale.com.au/event/tuesday-schnitzel-night-2019-01-29/
END:VEVENT
BEGIN:VEVENT
DTSTART;VALUE=DATE:20190130
DTEND;VALUE=DATE:20190131
DTSTAMP:20190227T140716
CREATED:20170928T055223Z
LAST-MODIFIED:20180515T105446Z
UID:2184-1548806400-1548892799@starhotelsale.com.au
SUMMARY:Wednesday Pasta Night
DESCRIPTION:Come in every Wednesday and enjoy one of our delicious pasta options for $19.95. \nView the menu options on our Bistro page. \n \n
URL:https://starhotelsale.com.au/event/wednesday-pasta-night-2019-01-30/
END:VEVENT
BEGIN:VEVENT
DTSTART;TZID=UTC+0:20190131T200000
DTEND;TZID=UTC+0:20190131T233000
DTSTAMP:20190227T140716
CREATED:20170928T055651Z
LAST-MODIFIED:20170928T055651Z
UID:2079-1548964800-1548977400@starhotelsale.com.au
SUMMARY:Trivia in the Front Bar
DESCRIPTION:Every Thursday come down to the Star Hotel and enjoy Trivia in the Front Bar. \n
URL:https://starhotelsale.com.au/event/trivia-in-the-bar-2019-01-31/
END:VEVENT
BEGIN:VEVENT
DTSTART;TZID=UTC+0:20190201T190000
DTEND;TZID=UTC+0:20190201T210000
DTSTAMP:20190227T140716
CREATED:20170928T062920Z
LAST-MODIFIED:20170928T062920Z
UID:1955-1549047600-1549054800@starhotelsale.com.au
SUMMARY:Charity Raffle & Publican's Purse
DESCRIPTION:Publican’s Purse 7pm \nCharity Raffle 8pm \n
URL:https://starhotelsale.com.au/event/charity-raffle-publicans-purse-2019-02-01/
END:VEVENT
BEGIN:VEVENT
DTSTART;VALUE=DATE:20190203
DTEND;VALUE=DATE:20190204
DTSTAMP:20190227T140716
CREATED:20180207T105335Z
LAST-MODIFIED:20180207T122034Z
UID:1828-1549152000-1549238399@starhotelsale.com.au
SUMMARY:Sunday Roast Special
DESCRIPTION:Let The Star do the cooking for you with a traditional Sunday Roast and vegetables only $18.50 on Sundays. \n
URL:https://starhotelsale.com.au/event/sunday-night-roast-night-2019-02-03/
END:VEVENT
BEGIN:VEVENT
DTSTART;VALUE=DATE:20190204
DTEND;VALUE=DATE:20190205
DTSTAMP:20190227T140716
CREATED:20170928T054039Z
LAST-MODIFIED:20170928T054039Z
UID:2363-1549238400-1549324799@starhotelsale.com.au
SUMMARY:Monday Kids Eat Free
DESCRIPTION:Monday kids eat free at the Star Hotel. Valid with any meal purchased. \nPlease note\, this offer is not available on public holidays. \n
URL:https://starhotelsale.com.au/event/monday-kids-eat-free-2019-02-04/
END:VEVENT
BEGIN:VEVENT
DTSTART;VALUE=DATE:20190205
DTEND;VALUE=DATE:20190206
DTSTAMP:20190227T140716
CREATED:20170928T054916Z
LAST-MODIFIED:20180515T112746Z
UID:2285-1549324800-1549411199@starhotelsale.com.au
SUMMARY:Tuesday Schnitzel Night
DESCRIPTION:Every Tuesday come an enjoy one of our amazing Schnitzels for $19.95. \nCheck out the menu options on our Bistro page. \n \n
URL:https://starhotelsale.com.au/event/tuesday-schnitzel-night-2019-02-05/
END:VEVENT
BEGIN:VEVENT
DTSTART;VALUE=DATE:20190206
DTEND;VALUE=DATE:20190207
DTSTAMP:20190227T140716
CREATED:20170928T055223Z
LAST-MODIFIED:20180515T105446Z
UID:2185-1549411200-1549497599@starhotelsale.com.au
SUMMARY:Wednesday Pasta Night
DESCRIPTION:Come in every Wednesday and enjoy one of our delicious pasta options for $19.95. \nView the menu options on our Bistro page. \n \n
URL:https://starhotelsale.com.au/event/wednesday-pasta-night-2019-02-06/
END:VEVENT
BEGIN:VEVENT
DTSTART;TZID=UTC+0:20190207T200000
DTEND;TZID=UTC+0:20190207T233000
DTSTAMP:20190227T140716
CREATED:20170928T055651Z
LAST-MODIFIED:20170928T055651Z
UID:2080-1549569600-1549582200@starhotelsale.com.au
SUMMARY:Trivia in the Front Bar
DESCRIPTION:Every Thursday come down to the Star Hotel and enjoy Trivia in the Front Bar. \n
URL:https://starhotelsale.com.au/event/trivia-in-the-bar-2019-02-07/
END:VEVENT
BEGIN:VEVENT
DTSTART;TZID=UTC+0:20190208T190000
DTEND;TZID=UTC+0:20190208T210000
DTSTAMP:20190227T140716
CREATED:20170928T062920Z
LAST-MODIFIED:20170928T062920Z
UID:1956-1549652400-1549659600@starhotelsale.com.au
SUMMARY:Charity Raffle & Publican's Purse
DESCRIPTION:Publican’s Purse 7pm \nCharity Raffle 8pm \n
URL:https://starhotelsale.com.au/event/charity-raffle-publicans-purse-2019-02-08/
END:VEVENT
BEGIN:VEVENT
DTSTART;VALUE=DATE:20190210
DTEND;VALUE=DATE:20190211
DTSTAMP:20190227T140716
CREATED:20180207T105335Z
LAST-MODIFIED:20180207T122034Z
UID:1829-1549756800-1549843199@starhotelsale.com.au
SUMMARY:Sunday Roast Special
DESCRIPTION:Let The Star do the cooking for you with a traditional Sunday Roast and vegetables only $18.50 on Sundays. \n
URL:https://starhotelsale.com.au/event/sunday-night-roast-night-2019-02-10/
END:VEVENT
BEGIN:VEVENT
DTSTART;VALUE=DATE:20190211
DTEND;VALUE=DATE:20190212
DTSTAMP:20190227T140716
CREATED:20170928T054039Z
LAST-MODIFIED:20170928T054039Z
UID:2364-1549843200-1549929599@starhotelsale.com.au
SUMMARY:Monday Kids Eat Free
DESCRIPTION:Monday kids eat free at the Star Hotel. Valid with any meal purchased. \nPlease note\, this offer is not available on public holidays. \n
URL:https://starhotelsale.com.au/event/monday-kids-eat-free-2019-02-11/
END:VEVENT
BEGIN:VEVENT
DTSTART;VALUE=DATE:20190212
DTEND;VALUE=DATE:20190213
DTSTAMP:20190227T140716
CREATED:20170928T054916Z
LAST-MODIFIED:20180515T112746Z
UID:2286-1549929600-1550015999@starhotelsale.com.au
SUMMARY:Tuesday Schnitzel Night
DESCRIPTION:Every Tuesday come an enjoy one of our amazing Schnitzels for $19.95. \nCheck out the menu options on our Bistro page. \n \n
URL:https://starhotelsale.com.au/event/tuesday-schnitzel-night-2019-02-12/
END:VEVENT
BEGIN:VEVENT
DTSTART;VALUE=DATE:20190213
DTEND;VALUE=DATE:20190214
DTSTAMP:20190227T140716
CREATED:20170928T055223Z
LAST-MODIFIED:20180515T105446Z
UID:2186-1550016000-1550102399@starhotelsale.com.au
SUMMARY:Wednesday Pasta Night
DESCRIPTION:Come in every Wednesday and enjoy one of our delicious pasta options for $19.95. \nView the menu options on our Bistro page. \n \n
URL:https://starhotelsale.com.au/event/wednesday-pasta-night-2019-02-13/
END:VEVENT
BEGIN:VEVENT
DTSTART;TZID=UTC+0:20190214T200000
DTEND;TZID=UTC+0:20190214T233000
DTSTAMP:20190227T140716
CREATED:20170928T055651Z
LAST-MODIFIED:20170928T055651Z
UID:2081-1550174400-1550187000@starhotelsale.com.au
SUMMARY:Trivia in the Front Bar
DESCRIPTION:Every Thursday come down to the Star Hotel and enjoy Trivia in the Front Bar. \n
URL:https://starhotelsale.com.au/event/trivia-in-the-bar-2019-02-14/
END:VEVENT
BEGIN:VEVENT
DTSTART;TZID=UTC+0:20190215T190000
DTEND;TZID=UTC+0:20190215T210000
DTSTAMP:20190227T140716
CREATED:20170928T062920Z
LAST-MODIFIED:20170928T062920Z
UID:1957-1550257200-1550264400@starhotelsale.com.au
SUMMARY:Charity Raffle & Publican's Purse
DESCRIPTION:Publican’s Purse 7pm \nCharity Raffle 8pm \n
URL:https://starhotelsale.com.au/event/charity-raffle-publicans-purse-2019-02-15/
END:VEVENT
BEGIN:VEVENT
DTSTART;VALUE=DATE:20190217
DTEND;VALUE=DATE:20190218
DTSTAMP:20190227T140716
CREATED:20180207T105335Z
LAST-MODIFIED:20180207T122034Z
UID:1831-1550361600-1550447999@starhotelsale.com.au
SUMMARY:Sunday Roast Special
DESCRIPTION:Let The Star do the cooking for you with a traditional Sunday Roast and vegetables only $18.50 on Sundays. \n
URL:https://starhotelsale.com.au/event/sunday-night-roast-night-2019-02-17/
END:VEVENT
BEGIN:VEVENT
DTSTART;VALUE=DATE:20190218
DTEND;VALUE=DATE:20190219
DTSTAMP:20190227T140716
CREATED:20170928T054039Z
LAST-MODIFIED:20170928T054039Z
UID:2365-1550448000-1550534399@starhotelsale.com.au
SUMMARY:Monday Kids Eat Free
DESCRIPTION:Monday kids eat free at the Star Hotel. Valid with any meal purchased. \nPlease note\, this offer is not available on public holidays. \n
URL:https://starhotelsale.com.au/event/monday-kids-eat-free-2019-02-18/
END:VEVENT
BEGIN:VEVENT
DTSTART;VALUE=DATE:20190219
DTEND;VALUE=DATE:20190220
DTSTAMP:20190227T140716
CREATED:20170928T054916Z
LAST-MODIFIED:20180515T112747Z
UID:2287-1550534400-1550620799@starhotelsale.com.au
SUMMARY:Tuesday Schnitzel Night
DESCRIPTION:Every Tuesday come an enjoy one of our amazing Schnitzels for $19.95. \nCheck out the menu options on our Bistro page. \n \n
URL:https://starhotelsale.com.au/event/tuesday-schnitzel-night-2019-02-19/
END:VEVENT
BEGIN:VEVENT
DTSTART;VALUE=DATE:20190220
DTEND;VALUE=DATE:20190221
DTSTAMP:20190227T140716
CREATED:20170928T055223Z
LAST-MODIFIED:20180515T105447Z
UID:2187-1550620800-1550707199@starhotelsale.com.au
SUMMARY:Wednesday Pasta Night
DESCRIPTION:Come in every Wednesday and enjoy one of our delicious pasta options for $19.95. \nView the menu options on our Bistro page. \n \n
URL:https://starhotelsale.com.au/event/wednesday-pasta-night-2019-02-20/
END:VEVENT
BEGIN:VEVENT
DTSTART;TZID=UTC+0:20190221T200000
DTEND;TZID=UTC+0:20190221T233000
DTSTAMP:20190227T140716
CREATED:20170928T055651Z
LAST-MODIFIED:20170928T055651Z
UID:2082-1550779200-1550791800@starhotelsale.com.au
SUMMARY:Trivia in the Front Bar
DESCRIPTION:Every Thursday come down to the Star Hotel and enjoy Trivia in the Front Bar. \n
URL:https://starhotelsale.com.au/event/trivia-in-the-bar-2019-02-21/
END:VEVENT
BEGIN:VEVENT
DTSTART;TZID=UTC+0:20190222T190000
DTEND;TZID=UTC+0:20190222T210000
DTSTAMP:20190227T140716
CREATED:20170928T062920Z
LAST-MODIFIED:20170928T062920Z
UID:1958-1550862000-1550869200@starhotelsale.com.au
SUMMARY:Charity Raffle & Publican's Purse
DESCRIPTION:Publican’s Purse 7pm \nCharity Raffle 8pm \n
URL:https://starhotelsale.com.au/event/charity-raffle-publicans-purse-2019-02-22/
END:VEVENT
BEGIN:VEVENT
DTSTART;VALUE=DATE:20190224
DTEND;VALUE=DATE:20190225
DTSTAMP:20190227T140716
CREATED:20180207T105335Z
LAST-MODIFIED:20180207T122035Z
UID:1832-1550966400-1551052799@starhotelsale.com.au
SUMMARY:Sunday Roast Special
DESCRIPTION:Let The Star do the cooking for you with a traditional Sunday Roast and vegetables only $18.50 on Sundays. \n
URL:https://starhotelsale.com.au/event/sunday-night-roast-night-2019-02-24/
END:VEVENT
BEGIN:VEVENT
DTSTART;VALUE=DATE:20190225
DTEND;VALUE=DATE:20190226
DTSTAMP:20190227T140716
CREATED:20170928T054039Z
LAST-MODIFIED:20170928T054039Z
UID:2366-1551052800-1551139199@starhotelsale.com.au
SUMMARY:Monday Kids Eat Free
DESCRIPTION:Monday kids eat free at the Star Hotel. Valid with any meal purchased. \nPlease note\, this offer is not available on public holidays. \n
URL:https://starhotelsale.com.au/event/monday-kids-eat-free-2019-02-25/
END:VEVENT
BEGIN:VEVENT
DTSTART;VALUE=DATE:20190226
DTEND;VALUE=DATE:20190227
DTSTAMP:20190227T140716
CREATED:20170928T054916Z
LAST-MODIFIED:20180515T112747Z
UID:2288-1551139200-1551225599@starhotelsale.com.au
SUMMARY:Tuesday Schnitzel Night
DESCRIPTION:Every Tuesday come an enjoy one of our amazing Schnitzels for $19.95. \nCheck out the menu options on our Bistro page. \n \n
URL:https://starhotelsale.com.au/event/tuesday-schnitzel-night-2019-02-26/
END:VEVENT
BEGIN:VEVENT
DTSTART;VALUE=DATE:20190227
DTEND;VALUE=DATE:20190228
DTSTAMP:20190227T140716
CREATED:20170928T055223Z
LAST-MODIFIED:20180515T105447Z
UID:2188-1551225600-1551311999@starhotelsale.com.au
SUMMARY:Wednesday Pasta Night
DESCRIPTION:Come in every Wednesday and enjoy one of our delicious pasta options for $19.95. \nView the menu options on our Bistro page. \n \n
URL:https://starhotelsale.com.au/event/wednesday-pasta-night-2019-02-27/
END:VEVENT
BEGIN:VEVENT
DTSTART;TZID=UTC+0:20190228T200000
DTEND;TZID=UTC+0:20190228T233000
DTSTAMP:20190227T140716
CREATED:20170928T055651Z
LAST-MODIFIED:20170928T055651Z
UID:2083-1551384000-1551396600@starhotelsale.com.au
SUMMARY:Trivia in the Front Bar
DESCRIPTION:Every Thursday come down to the Star Hotel and enjoy Trivia in the Front Bar. \n
URL:https://starhotelsale.com.au/event/trivia-in-the-bar-2019-02-28/
END:VEVENT
BEGIN:VEVENT
DTSTART;TZID=UTC+0:20190301T190000
DTEND;TZID=UTC+0:20190301T210000
DTSTAMP:20190227T140716
CREATED:20170928T062920Z
LAST-MODIFIED:20170928T062920Z
UID:1959-1551466800-1551474000@starhotelsale.com.au
SUMMARY:Charity Raffle & Publican's Purse
DESCRIPTION:Publican’s Purse 7pm \nCharity Raffle 8pm \n
URL:https://starhotelsale.com.au/event/charity-raffle-publicans-purse-2019-03-01/
END:VEVENT
BEGIN:VEVENT
DTSTART;VALUE=DATE:20190303
DTEND;VALUE=DATE:20190304
DTSTAMP:20190227T140716
CREATED:20180207T105335Z
LAST-MODIFIED:20180207T122035Z
UID:1833-1551571200-1551657599@starhotelsale.com.au
SUMMARY:Sunday Roast Special
DESCRIPTION:Let The Star do the cooking for you with a traditional Sunday Roast and vegetables only $18.50 on Sundays. \n
URL:https://starhotelsale.com.au/event/sunday-night-roast-night-2019-03-03/
END:VEVENT
END:VCALENDAR